BEGIN:VCALENDAR
VERSION:2.0
PRODID:-//Southeast Region of Chi Eta Phi Sorority, Inc. - ECPv6.15.13.1//NONSGML v1.0//EN
CALSCALE:GREGORIAN
METHOD:PUBLISH
X-WR-CALNAME:Southeast Region of Chi Eta Phi Sorority, Inc.
X-ORIGINAL-URL:https://serchietaphi.org
X-WR-CALDESC:Events for Southeast Region of Chi Eta Phi Sorority, Inc.
REFRESH-INTERVAL;VALUE=DURATION:PT1H
X-Robots-Tag:noindex
X-PUBLISHED-TTL:PT1H
BEGIN:VTIMEZONE
TZID:UTC
BEGIN:STANDARD
TZOFFSETFROM:+0000
TZOFFSETTO:+0000
TZNAME:UTC
DTSTART:20240101T000000
END:STANDARD
END:VTIMEZONE
BEGIN:VEVENT
DTSTART;VALUE=DATE:20250827
DTEND;VALUE=DATE:20250828
DTSTAMP:20260421T015200
CREATED:20250822T032948Z
LAST-MODIFIED:20250822T033138Z
UID:2556-1756252800-1756339199@serchietaphi.org
SUMMARY:SER Planning Committee Meeting
DESCRIPTION:
URL:https://serchietaphi.org/event/ser-planning-committee-meeting/
CATEGORIES:Private
ATTACH;FMTTYPE=image/png:https://serchietaphi.org/wp-content/uploads/2024/01/CEP-emb-white-outline-1-copy.png
END:VEVENT
BEGIN:VEVENT
DTSTART;VALUE=DATE:20250826
DTEND;VALUE=DATE:20250827
DTSTAMP:20260421T015201
CREATED:20250822T032842Z
LAST-MODIFIED:20250822T032842Z
UID:2553-1756166400-1756252799@serchietaphi.org
SUMMARY:SERLI Meeting
DESCRIPTION:
URL:https://serchietaphi.org/event/serli-meeting/
CATEGORIES:Private
ATTACH;FMTTYPE=image/png:https://serchietaphi.org/wp-content/uploads/2024/01/CEP-emb-white-outline-1-copy.png
END:VEVENT
BEGIN:VEVENT
DTSTART;VALUE=DATE:20250914
DTEND;VALUE=DATE:20250915
DTSTAMP:20260421T015201
CREATED:20250822T032458Z
LAST-MODIFIED:20250822T032458Z
UID:2547-1757808000-1757894399@serchietaphi.org
SUMMARY:SER Board Meeting
DESCRIPTION:
URL:https://serchietaphi.org/event/ser-board-meeting/
CATEGORIES:Private
ATTACH;FMTTYPE=image/png:https://serchietaphi.org/wp-content/uploads/2024/01/CEP-emb-white-outline-1-copy.png
END:VEVENT
BEGIN:VEVENT
DTSTART;VALUE=DATE:20250904
DTEND;VALUE=DATE:20250905
DTSTAMP:20260421T015201
CREATED:20250822T032723Z
LAST-MODIFIED:20250822T032723Z
UID:2550-1756944000-1757030399@serchietaphi.org
SUMMARY:SER Executive Meeting
DESCRIPTION:
URL:https://serchietaphi.org/event/ser-executive-meeting/
CATEGORIES:Private
ATTACH;FMTTYPE=image/png:https://serchietaphi.org/wp-content/uploads/2024/01/CEP-emb-white-outline-1-copy.png
END:VEVENT
BEGIN:VEVENT
DTSTART;VALUE=DATE:20250827
DTEND;VALUE=DATE:20250828
DTSTAMP:20260421T015201
CREATED:20250822T032948Z
LAST-MODIFIED:20250822T033138Z
UID:2556-1756252800-1756339199@serchietaphi.org
SUMMARY:SER Planning Committee Meeting
DESCRIPTION:
URL:https://serchietaphi.org/event/ser-planning-committee-meeting/
CATEGORIES:Private
ATTACH;FMTTYPE=image/png:https://serchietaphi.org/wp-content/uploads/2024/01/CEP-emb-white-outline-1-copy.png
END:VEVENT
BEGIN:VEVENT
DTSTART;VALUE=DATE:20250826
DTEND;VALUE=DATE:20250827
DTSTAMP:20260421T015201
CREATED:20250822T032842Z
LAST-MODIFIED:20250822T032842Z
UID:2553-1756166400-1756252799@serchietaphi.org
SUMMARY:SERLI Meeting
DESCRIPTION:
URL:https://serchietaphi.org/event/serli-meeting/
CATEGORIES:Private
ATTACH;FMTTYPE=image/png:https://serchietaphi.org/wp-content/uploads/2024/01/CEP-emb-white-outline-1-copy.png
END:VEVENT
BEGIN:VEVENT
DTSTART;VALUE=DATE:20250914
DTEND;VALUE=DATE:20250915
DTSTAMP:20260421T015201
CREATED:20250822T032458Z
LAST-MODIFIED:20250822T032458Z
UID:2547-1757808000-1757894399@serchietaphi.org
SUMMARY:SER Board Meeting
DESCRIPTION:
URL:https://serchietaphi.org/event/ser-board-meeting/
CATEGORIES:Private
ATTACH;FMTTYPE=image/png:https://serchietaphi.org/wp-content/uploads/2024/01/CEP-emb-white-outline-1-copy.png
END:VEVENT
BEGIN:VEVENT
DTSTART;VALUE=DATE:20250904
DTEND;VALUE=DATE:20250905
DTSTAMP:20260421T015201
CREATED:20250822T032723Z
LAST-MODIFIED:20250822T032723Z
UID:2550-1756944000-1757030399@serchietaphi.org
SUMMARY:SER Executive Meeting
DESCRIPTION:
URL:https://serchietaphi.org/event/ser-executive-meeting/
CATEGORIES:Private
ATTACH;FMTTYPE=image/png:https://serchietaphi.org/wp-content/uploads/2024/01/CEP-emb-white-outline-1-copy.png
END:VEVENT
BEGIN:VEVENT
DTSTART;VALUE=DATE:20250827
DTEND;VALUE=DATE:20250828
DTSTAMP:20260421T015201
CREATED:20250822T032948Z
LAST-MODIFIED:20250822T033138Z
UID:2556-1756252800-1756339199@serchietaphi.org
SUMMARY:SER Planning Committee Meeting
DESCRIPTION:
URL:https://serchietaphi.org/event/ser-planning-committee-meeting/
CATEGORIES:Private
ATTACH;FMTTYPE=image/png:https://serchietaphi.org/wp-content/uploads/2024/01/CEP-emb-white-outline-1-copy.png
END:VEVENT
BEGIN:VEVENT
DTSTART;VALUE=DATE:20250826
DTEND;VALUE=DATE:20250827
DTSTAMP:20260421T015201
CREATED:20250822T032842Z
LAST-MODIFIED:20250822T032842Z
UID:2553-1756166400-1756252799@serchietaphi.org
SUMMARY:SERLI Meeting
DESCRIPTION:
URL:https://serchietaphi.org/event/serli-meeting/
CATEGORIES:Private
ATTACH;FMTTYPE=image/png:https://serchietaphi.org/wp-content/uploads/2024/01/CEP-emb-white-outline-1-copy.png
END:VEVENT
BEGIN:VEVENT
DTSTART;VALUE=DATE:20250914
DTEND;VALUE=DATE:20250915
DTSTAMP:20260421T015201
CREATED:20250822T032458Z
LAST-MODIFIED:20250822T032458Z
UID:2547-1757808000-1757894399@serchietaphi.org
SUMMARY:SER Board Meeting
DESCRIPTION:
URL:https://serchietaphi.org/event/ser-board-meeting/
CATEGORIES:Private
ATTACH;FMTTYPE=image/png:https://serchietaphi.org/wp-content/uploads/2024/01/CEP-emb-white-outline-1-copy.png
END:VEVENT
BEGIN:VEVENT
DTSTART;TZID=UTC:20251107T080000
DTEND;TZID=UTC:20251108T170000
DTSTAMP:20260421T015201
CREATED:20250821T150033Z
LAST-MODIFIED:20250822T031312Z
UID:2496-1762502400-1762621200@serchietaphi.org
SUMMARY:L.E.A.D Southeast Regional Leadership Summit
DESCRIPTION:Join us for the L.E.A.D Southeast Regional Leadership Summit in the Biloxi\, Mississippi! This summit is a unique opportunity to connect with fellow leaders and engage in thought-provoking discussions that will enhance your leadership journey. \nAs you soak in the vibrant atmosphere of Biloxi\, take advantage of its beautiful coastal scenery and lively culture.  Don’t miss this chance to be part of an empowering event that combines learning\, collaboration\, and the spirit of leadership!
URL:https://serchietaphi.org/event/l-e-a-d-southeast-regional-leadership-summit/
CATEGORIES:Public
ATTACH;FMTTYPE=image/png:https://serchietaphi.org/wp-content/uploads/2025/08/L.-E.-A.-D.-Legacy-Excellence-Accountability-Determination-Empowering-the-N.e.-.T-.-Generation-of-Chi-Eta-Phi-Leaders-3.png
END:VEVENT
BEGIN:VEVENT
DTSTART;VALUE=DATE:20251107
DTEND;VALUE=DATE:20251109
DTSTAMP:20260421T015201
CREATED:20250907T205729Z
LAST-MODIFIED:20250907T205942Z
UID:2609-1762473600-1762646399@serchietaphi.org
SUMMARY:L.E.A.D Retreat
DESCRIPTION:Join us for the L.E.A.D Southeast Regional Leadership Summit in the Biloxi\, Mississippi! This summit is a unique opportunity to connect with fellow leaders and engage in thought-provoking discussions that will enhance your leadership journey. \nAs you soak in the vibrant atmosphere of Biloxi\, take advantage of its beautiful coastal scenery and lively culture.  Don’t miss this chance to be part of an empowering event that combines learning\, collaboration\, and the spirit of leadership!
URL:https://serchietaphi.org/event/l-e-a-d-retreat/
CATEGORIES:Private
ATTACH;FMTTYPE=image/jpeg:https://serchietaphi.org/wp-content/uploads/2025/08/Leadership-7.jpeg
END:VEVENT
BEGIN:VEVENT
DTSTART;VALUE=DATE:20250904
DTEND;VALUE=DATE:20250905
DTSTAMP:20260421T015201
CREATED:20250822T032723Z
LAST-MODIFIED:20250822T032723Z
UID:2550-1756944000-1757030399@serchietaphi.org
SUMMARY:SER Executive Meeting
DESCRIPTION:
URL:https://serchietaphi.org/event/ser-executive-meeting/
CATEGORIES:Private
ATTACH;FMTTYPE=image/png:https://serchietaphi.org/wp-content/uploads/2024/01/CEP-emb-white-outline-1-copy.png
END:VEVENT
BEGIN:VEVENT
DTSTART;VALUE=DATE:20250826
DTEND;VALUE=DATE:20250827
DTSTAMP:20260421T015201
CREATED:20250822T032842Z
LAST-MODIFIED:20250822T032842Z
UID:2553-1756166400-1756252799@serchietaphi.org
SUMMARY:SERLI Meeting
DESCRIPTION:
URL:https://serchietaphi.org/event/serli-meeting/
CATEGORIES:Private
ATTACH;FMTTYPE=image/png:https://serchietaphi.org/wp-content/uploads/2024/01/CEP-emb-white-outline-1-copy.png
END:VEVENT
BEGIN:VEVENT
DTSTART;VALUE=DATE:20250827
DTEND;VALUE=DATE:20250828
DTSTAMP:20260421T015201
CREATED:20250822T032948Z
LAST-MODIFIED:20250822T033138Z
UID:2556-1756252800-1756339199@serchietaphi.org
SUMMARY:SER Planning Committee Meeting
DESCRIPTION:
URL:https://serchietaphi.org/event/ser-planning-committee-meeting/
CATEGORIES:Private
ATTACH;FMTTYPE=image/png:https://serchietaphi.org/wp-content/uploads/2024/01/CEP-emb-white-outline-1-copy.png
END:VEVENT
BEGIN:VEVENT
DTSTART;VALUE=DATE:20250914
DTEND;VALUE=DATE:20250915
DTSTAMP:20260421T015201
CREATED:20250822T032458Z
LAST-MODIFIED:20250822T032458Z
UID:2547-1757808000-1757894399@serchietaphi.org
SUMMARY:SER Board Meeting
DESCRIPTION:
URL:https://serchietaphi.org/event/ser-board-meeting/
CATEGORIES:Private
ATTACH;FMTTYPE=image/png:https://serchietaphi.org/wp-content/uploads/2024/01/CEP-emb-white-outline-1-copy.png
END:VEVENT
BEGIN:VEVENT
DTSTART;VALUE=DATE:20250904
DTEND;VALUE=DATE:20250905
DTSTAMP:20260421T015201
CREATED:20250822T032723Z
LAST-MODIFIED:20250822T032723Z
UID:2550-1756944000-1757030399@serchietaphi.org
SUMMARY:SER Executive Meeting
DESCRIPTION:
URL:https://serchietaphi.org/event/ser-executive-meeting/
CATEGORIES:Private
ATTACH;FMTTYPE=image/png:https://serchietaphi.org/wp-content/uploads/2024/01/CEP-emb-white-outline-1-copy.png
END:VEVENT
BEGIN:VEVENT
DTSTART;VALUE=DATE:20250827
DTEND;VALUE=DATE:20250828
DTSTAMP:20260421T015201
CREATED:20250822T032948Z
LAST-MODIFIED:20250822T033138Z
UID:2556-1756252800-1756339199@serchietaphi.org
SUMMARY:SER Planning Committee Meeting
DESCRIPTION:
URL:https://serchietaphi.org/event/ser-planning-committee-meeting/
CATEGORIES:Private
ATTACH;FMTTYPE=image/png:https://serchietaphi.org/wp-content/uploads/2024/01/CEP-emb-white-outline-1-copy.png
END:VEVENT
BEGIN:VEVENT
DTSTART;VALUE=DATE:20250826
DTEND;VALUE=DATE:20250827
DTSTAMP:20260421T015201
CREATED:20250822T032842Z
LAST-MODIFIED:20250822T032842Z
UID:2553-1756166400-1756252799@serchietaphi.org
SUMMARY:SERLI Meeting
DESCRIPTION:
URL:https://serchietaphi.org/event/serli-meeting/
CATEGORIES:Private
ATTACH;FMTTYPE=image/png:https://serchietaphi.org/wp-content/uploads/2024/01/CEP-emb-white-outline-1-copy.png
END:VEVENT
BEGIN:VEVENT
DTSTART;VALUE=DATE:20250914
DTEND;VALUE=DATE:20250915
DTSTAMP:20260421T015201
CREATED:20250822T032458Z
LAST-MODIFIED:20250822T032458Z
UID:2547-1757808000-1757894399@serchietaphi.org
SUMMARY:SER Board Meeting
DESCRIPTION:
URL:https://serchietaphi.org/event/ser-board-meeting/
CATEGORIES:Private
ATTACH;FMTTYPE=image/png:https://serchietaphi.org/wp-content/uploads/2024/01/CEP-emb-white-outline-1-copy.png
END:VEVENT
BEGIN:VEVENT
DTSTART;VALUE=DATE:20250904
DTEND;VALUE=DATE:20250905
DTSTAMP:20260421T015201
CREATED:20250822T032723Z
LAST-MODIFIED:20250822T032723Z
UID:2550-1756944000-1757030399@serchietaphi.org
SUMMARY:SER Executive Meeting
DESCRIPTION:
URL:https://serchietaphi.org/event/ser-executive-meeting/
CATEGORIES:Private
ATTACH;FMTTYPE=image/png:https://serchietaphi.org/wp-content/uploads/2024/01/CEP-emb-white-outline-1-copy.png
END:VEVENT
BEGIN:VEVENT
DTSTART;VALUE=DATE:20250827
DTEND;VALUE=DATE:20250828
DTSTAMP:20260421T015201
CREATED:20250822T032948Z
LAST-MODIFIED:20250822T033138Z
UID:2556-1756252800-1756339199@serchietaphi.org
SUMMARY:SER Planning Committee Meeting
DESCRIPTION:
URL:https://serchietaphi.org/event/ser-planning-committee-meeting/
CATEGORIES:Private
ATTACH;FMTTYPE=image/png:https://serchietaphi.org/wp-content/uploads/2024/01/CEP-emb-white-outline-1-copy.png
END:VEVENT
BEGIN:VEVENT
DTSTART;VALUE=DATE:20250826
DTEND;VALUE=DATE:20250827
DTSTAMP:20260421T015201
CREATED:20250822T032842Z
LAST-MODIFIED:20250822T032842Z
UID:2553-1756166400-1756252799@serchietaphi.org
SUMMARY:SERLI Meeting
DESCRIPTION:
URL:https://serchietaphi.org/event/serli-meeting/
CATEGORIES:Private
ATTACH;FMTTYPE=image/png:https://serchietaphi.org/wp-content/uploads/2024/01/CEP-emb-white-outline-1-copy.png
END:VEVENT
BEGIN:VEVENT
DTSTART;TZID=UTC:20250821T080000
DTEND;TZID=UTC:20250821T170000
DTSTAMP:20260421T015201
CREATED:20250821T151501Z
LAST-MODIFIED:20250821T151501Z
UID:2507-1755763200-1755795600@serchietaphi.org
SUMMARY:Members only Event.
DESCRIPTION:Test members only event.
URL:https://serchietaphi.org/event/members-only-event/
CATEGORIES:Private
END:VEVENT
END:VCALENDAR