BEGIN:VCALENDAR
VERSION:2.0
PRODID:-//Southeast Region of Chi Eta Phi Sorority, Inc. - ECPv6.15.13.1//NONSGML v1.0//EN
CALSCALE:GREGORIAN
METHOD:PUBLISH
X-WR-CALNAME:Southeast Region of Chi Eta Phi Sorority, Inc.
X-ORIGINAL-URL:https://serchietaphi.org
X-WR-CALDESC:Events for Southeast Region of Chi Eta Phi Sorority, Inc.
REFRESH-INTERVAL;VALUE=DURATION:PT1H
X-Robots-Tag:noindex
X-PUBLISHED-TTL:PT1H
BEGIN:VTIMEZONE
TZID:UTC
BEGIN:STANDARD
TZOFFSETFROM:+0000
TZOFFSETTO:+0000
TZNAME:UTC
DTSTART:20240101T000000
END:STANDARD
END:VTIMEZONE
BEGIN:VEVENT
DTSTART;TZID=UTC:20250821T080000
DTEND;TZID=UTC:20250821T170000
DTSTAMP:20260420T231020
CREATED:20250821T151501Z
LAST-MODIFIED:20250821T151501Z
UID:2507-1755763200-1755795600@serchietaphi.org
SUMMARY:Members only Event.
DESCRIPTION:Test members only event.
URL:https://serchietaphi.org/event/members-only-event/
CATEGORIES:Private
END:VEVENT
END:VCALENDAR