BEGIN:VCALENDAR
VERSION:2.0
PRODID:-//Southeast Region of Chi Eta Phi Sorority, Inc. - ECPv6.15.13.1//NONSGML v1.0//EN
CALSCALE:GREGORIAN
METHOD:PUBLISH
X-WR-CALNAME:Southeast Region of Chi Eta Phi Sorority, Inc.
X-ORIGINAL-URL:https://serchietaphi.org
X-WR-CALDESC:Events for Southeast Region of Chi Eta Phi Sorority, Inc.
REFRESH-INTERVAL;VALUE=DURATION:PT1H
X-Robots-Tag:noindex
X-PUBLISHED-TTL:PT1H
BEGIN:VTIMEZONE
TZID:UTC
BEGIN:STANDARD
TZOFFSETFROM:+0000
TZOFFSETTO:+0000
TZNAME:UTC
DTSTART:20250101T000000
END:STANDARD
END:VTIMEZONE
BEGIN:VEVENT
DTSTART;VALUE=DATE:20260626
DTEND;VALUE=DATE:20260628
DTSTAMP:20260420T191356
CREATED:20250822T031027Z
LAST-MODIFIED:20250822T031027Z
UID:2538-1782432000-1782604799@serchietaphi.org
SUMMARY:2026 National Leadership Summit
DESCRIPTION:
URL:https://serchietaphi.org/event/2026-national-leadership-summit/
CATEGORIES:Private,Public
ATTACH;FMTTYPE=image/png:https://serchietaphi.org/wp-content/uploads/2024/01/CEP-emb-white-outline-1-copy.png
END:VEVENT
END:VCALENDAR