BEGIN:VCALENDAR
VERSION:2.0
PRODID:-//Southeast Region of Chi Eta Phi Sorority, Inc. - ECPv6.15.13.1//NONSGML v1.0//EN
CALSCALE:GREGORIAN
METHOD:PUBLISH
X-WR-CALNAME:Southeast Region of Chi Eta Phi Sorority, Inc.
X-ORIGINAL-URL:https://serchietaphi.org
X-WR-CALDESC:Events for Southeast Region of Chi Eta Phi Sorority, Inc.
REFRESH-INTERVAL;VALUE=DURATION:PT1H
X-Robots-Tag:noindex
X-PUBLISHED-TTL:PT1H
BEGIN:VTIMEZONE
TZID:UTC
BEGIN:STANDARD
TZOFFSETFROM:+0000
TZOFFSETTO:+0000
TZNAME:UTC
DTSTART:20240101T000000
END:STANDARD
END:VTIMEZONE
BEGIN:VEVENT
DTSTART;VALUE=DATE:20250826
DTEND;VALUE=DATE:20250827
DTSTAMP:20260420T230021
CREATED:20250822T032842Z
LAST-MODIFIED:20250822T032842Z
UID:2553-1756166400-1756252799@serchietaphi.org
SUMMARY:SERLI Meeting
DESCRIPTION:
URL:https://serchietaphi.org/event/serli-meeting/
CATEGORIES:Private
ATTACH;FMTTYPE=image/png:https://serchietaphi.org/wp-content/uploads/2024/01/CEP-emb-white-outline-1-copy.png
END:VEVENT
END:VCALENDAR