BEGIN:VCALENDAR
VERSION:2.0
PRODID:-//Southeast Region of Chi Eta Phi Sorority, Inc. - ECPv6.15.13.1//NONSGML v1.0//EN
CALSCALE:GREGORIAN
METHOD:PUBLISH
X-ORIGINAL-URL:https://serchietaphi.org
X-WR-CALDESC:Events for Southeast Region of Chi Eta Phi Sorority, Inc.
REFRESH-INTERVAL;VALUE=DURATION:PT1H
X-Robots-Tag:noindex
X-PUBLISHED-TTL:PT1H
BEGIN:VTIMEZONE
TZID:UTC
BEGIN:STANDARD
TZOFFSETFROM:+0000
TZOFFSETTO:+0000
TZNAME:UTC
DTSTART:20250101T000000
END:STANDARD
END:VTIMEZONE
BEGIN:VEVENT
DTSTART;TZID=UTC:20260311T080000
DTEND;TZID=UTC:20260315T170000
DTSTAMP:20260420T191230
CREATED:20250821T150122Z
LAST-MODIFIED:20251212T162314Z
UID:2498-1773216000-1773594000@serchietaphi.org
SUMMARY:72nd Southeast Regional Conference
DESCRIPTION:Join us for the upcoming Regional Conference in vibrant Raleigh\, North Carolina! Experience the charm of the city and immerse yourself in the rich culture of the area\, including the lively North Carolina swing scene. \nDon’t miss out on the opportunity to connect with fellow members\, share ideas\, and enjoy engaging sessions. Plus\, you’ll have the chance to dance the night away and embrace the rhythm and energy that North Carolina is known for.
URL:https://serchietaphi.org/event/72nd-southeast-regional-conference/
CATEGORIES:Public
ATTACH;FMTTYPE=image/jpeg:https://serchietaphi.org/wp-content/uploads/2025/12/SER-regional-flyer.jpg
END:VEVENT
END:VCALENDAR